BEGIN:VCALENDAR
VERSION:2.0
PRODID:-//House of Levi Intl - ECPv6.15.20//NONSGML v1.0//EN
CALSCALE:GREGORIAN
METHOD:PUBLISH
X-ORIGINAL-URL:https://holintl.com
X-WR-CALDESC:Events for House of Levi Intl
REFRESH-INTERVAL;VALUE=DURATION:PT1H
X-Robots-Tag:noindex
X-PUBLISHED-TTL:PT1H
BEGIN:VTIMEZONE
TZID:Europe/London
BEGIN:DAYLIGHT
TZOFFSETFROM:+0000
TZOFFSETTO:+0100
TZNAME:BST
DTSTART:20230326T010000
END:DAYLIGHT
BEGIN:STANDARD
TZOFFSETFROM:+0100
TZOFFSETTO:+0000
TZNAME:GMT
DTSTART:20231029T010000
END:STANDARD
BEGIN:DAYLIGHT
TZOFFSETFROM:+0000
TZOFFSETTO:+0100
TZNAME:BST
DTSTART:20240331T010000
END:DAYLIGHT
BEGIN:STANDARD
TZOFFSETFROM:+0100
TZOFFSETTO:+0000
TZNAME:GMT
DTSTART:20241027T010000
END:STANDARD
BEGIN:DAYLIGHT
TZOFFSETFROM:+0000
TZOFFSETTO:+0100
TZNAME:BST
DTSTART:20250330T010000
END:DAYLIGHT
BEGIN:STANDARD
TZOFFSETFROM:+0100
TZOFFSETTO:+0000
TZNAME:GMT
DTSTART:20251026T010000
END:STANDARD
END:VTIMEZONE
BEGIN:VEVENT
DTSTART;TZID=Europe/London:20241013T133000
DTEND;TZID=Europe/London:20241013T163000
DTSTAMP:20260422T063359
CREATED:20241012T104325Z
LAST-MODIFIED:20241012T104325Z
UID:37987-1728826200-1728837000@holintl.com
SUMMARY:House of Levi Intl 13th Year Anniversary
DESCRIPTION:The House of Levi Celebrates 13 years of glory\, service and growth and we invite you to join us on Sunday 13th October to celebrate our 13th anniversary with guest speaker Pastor Spence.\n•••••••••••••••••••••••••\nEvery Sunday in October at 1:30PM.\nAddress: Suffolks Primary School\, Brick Lane\, EN1 3PU\n———————-\nZoom ID: 896 423 2935\nPasscode: FAITH
URL:https://holintl.com/event/13thyear/
LOCATION:Church\, 39-43 Garman Road\, London\, London\, N17 0UL\, United Kingdom
ATTACH;FMTTYPE=image/png:https://holintl.com/wp-content/uploads/2024/10/13th_anniv.png
END:VEVENT
BEGIN:VEVENT
DTSTART;TZID=Europe/London:20240414T140000
DTEND;TZID=Europe/London:20240414T173000
DTSTAMP:20260422T063359
CREATED:20240409T230018Z
LAST-MODIFIED:20251106T185401Z
UID:36726-1713103200-1713115800@holintl.com
SUMMARY:Sunday Service
DESCRIPTION:Join us every Sunday to experience Spirit-filled worship\, transformative teaching\, and a welcoming community. \nZoom Details\nMEETING ID: 896 423 2935\nPASSCODE: FAITH \nAlternatively\, click the button below to take you straight into our Zoom meeting. \nJoin us on Zoom
URL:https://holintl.com/event/sunday-service/
LOCATION:Church\, 39-43 Garman Road\, London\, London\, N17 0UL\, United Kingdom
CATEGORIES:Sunday Service
ATTACH;FMTTYPE=image/png:https://holintl.com/wp-content/uploads/2024/04/sunday-service.png
END:VEVENT
END:VCALENDAR