BEGIN:VCALENDAR
VERSION:2.0
PRODID:-//House of Levi Intl - ECPv6.15.20//NONSGML v1.0//EN
CALSCALE:GREGORIAN
METHOD:PUBLISH
X-ORIGINAL-URL:https://holintl.com
X-WR-CALDESC:Events for House of Levi Intl
REFRESH-INTERVAL;VALUE=DURATION:PT1H
X-Robots-Tag:noindex
X-PUBLISHED-TTL:PT1H
BEGIN:VTIMEZONE
TZID:Europe/London
BEGIN:DAYLIGHT
TZOFFSETFROM:+0000
TZOFFSETTO:+0100
TZNAME:BST
DTSTART:20230326T010000
END:DAYLIGHT
BEGIN:STANDARD
TZOFFSETFROM:+0100
TZOFFSETTO:+0000
TZNAME:GMT
DTSTART:20231029T010000
END:STANDARD
BEGIN:DAYLIGHT
TZOFFSETFROM:+0000
TZOFFSETTO:+0100
TZNAME:BST
DTSTART:20240331T010000
END:DAYLIGHT
BEGIN:STANDARD
TZOFFSETFROM:+0100
TZOFFSETTO:+0000
TZNAME:GMT
DTSTART:20241027T010000
END:STANDARD
BEGIN:DAYLIGHT
TZOFFSETFROM:+0000
TZOFFSETTO:+0100
TZNAME:BST
DTSTART:20250330T010000
END:DAYLIGHT
BEGIN:STANDARD
TZOFFSETFROM:+0100
TZOFFSETTO:+0000
TZNAME:GMT
DTSTART:20251026T010000
END:STANDARD
END:VTIMEZONE
BEGIN:VEVENT
DTSTART;TZID=Europe/London:20240720T130000
DTEND;TZID=Europe/London:20240720T170000
DTSTAMP:20260422T005937
CREATED:20240719T083921Z
LAST-MODIFIED:20240802T093524Z
UID:37922-1721480400-1721494800@holintl.com
SUMMARY:Mighty Works of Deliverance • Part 1
DESCRIPTION:House of Levi Intl & Levi Morgan Global invites you to Mighty Works of Deliverance with Apostle Levi Morgan. An afternoon of teaching and deliverance from the powers of familiar spirits.\n———————-\n£20 Admission • Adults only\n———————-\nSee you there!
URL:https://holintl.com/event/mighty-works-of-deliverance-part1/
LOCATION:Church\, 39-43 Garman Road\, London\, London\, N17 0UL\, United Kingdom
ATTACH;FMTTYPE=image/png:https://holintl.com/wp-content/uploads/2024/07/mighty-works-of-deliverance.png
END:VEVENT
END:VCALENDAR